BEGIN:VCALENDAR
VERSION:2.0
PRODID:-//Clinton Art Society - ECPv6.15.20//NONSGML v1.0//EN
CALSCALE:GREGORIAN
METHOD:PUBLISH
X-ORIGINAL-URL:https://clintonartsocietyct.org
X-WR-CALDESC:Events for Clinton Art Society
REFRESH-INTERVAL;VALUE=DURATION:PT1H
X-Robots-Tag:noindex
X-PUBLISHED-TTL:PT1H
BEGIN:VTIMEZONE
TZID:America/New_York
BEGIN:DAYLIGHT
TZOFFSETFROM:-0500
TZOFFSETTO:-0400
TZNAME:EDT
DTSTART:20230312T070000
END:DAYLIGHT
BEGIN:STANDARD
TZOFFSETFROM:-0400
TZOFFSETTO:-0500
TZNAME:EST
DTSTART:20231105T060000
END:STANDARD
BEGIN:DAYLIGHT
TZOFFSETFROM:-0500
TZOFFSETTO:-0400
TZNAME:EDT
DTSTART:20240310T070000
END:DAYLIGHT
BEGIN:STANDARD
TZOFFSETFROM:-0400
TZOFFSETTO:-0500
TZNAME:EST
DTSTART:20241103T060000
END:STANDARD
BEGIN:DAYLIGHT
TZOFFSETFROM:-0500
TZOFFSETTO:-0400
TZNAME:EDT
DTSTART:20250309T070000
END:DAYLIGHT
BEGIN:STANDARD
TZOFFSETFROM:-0400
TZOFFSETTO:-0500
TZNAME:EST
DTSTART:20251102T060000
END:STANDARD
END:VTIMEZONE
BEGIN:VEVENT
DTSTART;VALUE=DATE:20240405
DTEND;VALUE=DATE:20240406
DTSTAMP:20260423T153623
CREATED:20231021T165105Z
LAST-MODIFIED:20240212T195022Z
UID:6355-1712275200-1712361599@clintonartsocietyct.org
SUMMARY:Online Registration for Spring Show
DESCRIPTION:
URL:https://clintonartsocietyct.org/event/online-registration-for-spring-show-4/
END:VEVENT
BEGIN:VEVENT
DTSTART;TZID=America/New_York:20240405T090000
DTEND;TZID=America/New_York:20240405T120000
DTSTAMP:20260423T153623
CREATED:20231021T165105Z
LAST-MODIFIED:20240212T195022Z
UID:6358-1712307600-1712318400@clintonartsocietyct.org
SUMMARY:Winter Juried Members Show
DESCRIPTION:
URL:https://clintonartsocietyct.org/event/winter-juried-members-show-85/
END:VEVENT
END:VCALENDAR