BEGIN:VCALENDAR
VERSION:2.0
PRODID:-//Clinton Art Society - ECPv6.15.20//NONSGML v1.0//EN
CALSCALE:GREGORIAN
METHOD:PUBLISH
X-WR-CALNAME:Clinton Art Society
X-ORIGINAL-URL:https://clintonartsocietyct.org
X-WR-CALDESC:Events for Clinton Art Society
REFRESH-INTERVAL;VALUE=DURATION:PT1H
X-Robots-Tag:noindex
X-PUBLISHED-TTL:PT1H
BEGIN:VTIMEZONE
TZID:America/New_York
BEGIN:DAYLIGHT
TZOFFSETFROM:-0500
TZOFFSETTO:-0400
TZNAME:EDT
DTSTART:20230312T070000
END:DAYLIGHT
BEGIN:STANDARD
TZOFFSETFROM:-0400
TZOFFSETTO:-0500
TZNAME:EST
DTSTART:20231105T060000
END:STANDARD
BEGIN:DAYLIGHT
TZOFFSETFROM:-0500
TZOFFSETTO:-0400
TZNAME:EDT
DTSTART:20240310T070000
END:DAYLIGHT
BEGIN:STANDARD
TZOFFSETFROM:-0400
TZOFFSETTO:-0500
TZNAME:EST
DTSTART:20241103T060000
END:STANDARD
BEGIN:DAYLIGHT
TZOFFSETFROM:-0500
TZOFFSETTO:-0400
TZNAME:EDT
DTSTART:20250309T070000
END:DAYLIGHT
BEGIN:STANDARD
TZOFFSETFROM:-0400
TZOFFSETTO:-0500
TZNAME:EST
DTSTART:20251102T060000
END:STANDARD
END:VTIMEZONE
BEGIN:VEVENT
DTSTART;TZID=America/New_York:20240311T090000
DTEND;TZID=America/New_York:20240311T160000
DTSTAMP:20260420T013817
CREATED:20231021T165100Z
LAST-MODIFIED:20240212T195020Z
UID:6334-1710147600-1710172800@clintonartsocietyct.org
SUMMARY:Winter Juried Members Show
DESCRIPTION:
URL:https://clintonartsocietyct.org/event/winter-juried-members-show-66/
LOCATION:Connecticut
END:VEVENT
BEGIN:VEVENT
DTSTART;TZID=America/New_York:20240308T090000
DTEND;TZID=America/New_York:20240308T120000
DTSTAMP:20260420T013817
CREATED:20231021T165100Z
LAST-MODIFIED:20240212T195020Z
UID:6333-1709888400-1709899200@clintonartsocietyct.org
SUMMARY:Winter Juried Members Show
DESCRIPTION:
URL:https://clintonartsocietyct.org/event/winter-juried-members-show-65/
LOCATION:Connecticut
END:VEVENT
BEGIN:VEVENT
DTSTART;TZID=America/New_York:20240307T090000
DTEND;TZID=America/New_York:20240307T160000
DTSTAMP:20260420T013817
CREATED:20231021T165059Z
LAST-MODIFIED:20240212T195020Z
UID:6332-1709802000-1709827200@clintonartsocietyct.org
SUMMARY:Winter Juried Members Show
DESCRIPTION:
URL:https://clintonartsocietyct.org/event/winter-juried-members-show-64/
LOCATION:Connecticut
END:VEVENT
BEGIN:VEVENT
DTSTART;TZID=America/New_York:20240306T090000
DTEND;TZID=America/New_York:20240306T160000
DTSTAMP:20260420T013817
CREATED:20231021T165059Z
LAST-MODIFIED:20240212T195020Z
UID:6331-1709715600-1709740800@clintonartsocietyct.org
SUMMARY:Winter Juried Members Show
DESCRIPTION:
URL:https://clintonartsocietyct.org/event/winter-juried-members-show-63/
LOCATION:Connecticut
END:VEVENT
BEGIN:VEVENT
DTSTART;TZID=America/New_York:20240305T090000
DTEND;TZID=America/New_York:20240305T160000
DTSTAMP:20260420T013817
CREATED:20231021T165059Z
LAST-MODIFIED:20240212T195020Z
UID:6330-1709629200-1709654400@clintonartsocietyct.org
SUMMARY:Winter Juried Members Show
DESCRIPTION:
URL:https://clintonartsocietyct.org/event/winter-juried-members-show-62/
LOCATION:Connecticut
END:VEVENT
BEGIN:VEVENT
DTSTART;TZID=America/New_York:20240304T090000
DTEND;TZID=America/New_York:20240304T160000
DTSTAMP:20260420T013817
CREATED:20231021T165059Z
LAST-MODIFIED:20240212T195020Z
UID:6329-1709542800-1709568000@clintonartsocietyct.org
SUMMARY:Winter Juried Members Show
DESCRIPTION:
URL:https://clintonartsocietyct.org/event/winter-juried-members-show-61/
LOCATION:Connecticut
END:VEVENT
BEGIN:VEVENT
DTSTART;TZID=America/New_York:20240302T130000
DTEND;TZID=America/New_York:20240302T150000
DTSTAMP:20260420T013817
CREATED:20240205T194949Z
LAST-MODIFIED:20240212T195020Z
UID:6679-1709384400-1709391600@clintonartsocietyct.org
SUMMARY:Art critique with Eileen Eder
DESCRIPTION:
URL:https://clintonartsocietyct.org/event/art-critique-with-eileen-eder/
LOCATION:Henry Carter Hull Library\, 10 Killingworth Turnpike\, Clinton\, CT 06413\, USA
END:VEVENT
BEGIN:VEVENT
DTSTART;TZID=America/New_York:20240301T090000
DTEND;TZID=America/New_York:20240301T120000
DTSTAMP:20260420T013817
CREATED:20231021T165059Z
LAST-MODIFIED:20240127T172006Z
UID:6328-1709283600-1709294400@clintonartsocietyct.org
SUMMARY:Winter Juried Members Show
DESCRIPTION:
URL:https://clintonartsocietyct.org/event/winter-juried-members-show-60/
LOCATION:Connecticut
END:VEVENT
BEGIN:VEVENT
DTSTART;TZID=America/New_York:20240229T090000
DTEND;TZID=America/New_York:20240229T160000
DTSTAMP:20260420T013817
CREATED:20231021T165058Z
LAST-MODIFIED:20240212T195020Z
UID:6327-1709197200-1709222400@clintonartsocietyct.org
SUMMARY:Winter Juried Members Show
DESCRIPTION:
URL:https://clintonartsocietyct.org/event/winter-juried-members-show-59/
LOCATION:Connecticut
END:VEVENT
BEGIN:VEVENT
DTSTART;TZID=America/New_York:20240228T090000
DTEND;TZID=America/New_York:20240228T160000
DTSTAMP:20260420T013817
CREATED:20231021T165058Z
LAST-MODIFIED:20240212T195020Z
UID:6326-1709110800-1709136000@clintonartsocietyct.org
SUMMARY:Winter Juried Members Show
DESCRIPTION:
URL:https://clintonartsocietyct.org/event/winter-juried-members-show-58/
LOCATION:Connecticut
END:VEVENT
BEGIN:VEVENT
DTSTART;TZID=America/New_York:20240227T090000
DTEND;TZID=America/New_York:20240227T160000
DTSTAMP:20260420T013817
CREATED:20231021T165058Z
LAST-MODIFIED:20240212T195020Z
UID:6325-1709024400-1709049600@clintonartsocietyct.org
SUMMARY:Winter Juried Members Show
DESCRIPTION:
URL:https://clintonartsocietyct.org/event/winter-juried-members-show-57/
LOCATION:Connecticut
END:VEVENT
BEGIN:VEVENT
DTSTART;TZID=America/New_York:20240226T090000
DTEND;TZID=America/New_York:20240226T160000
DTSTAMP:20260420T013817
CREATED:20231021T165058Z
LAST-MODIFIED:20240212T195019Z
UID:6324-1708938000-1708963200@clintonartsocietyct.org
SUMMARY:Winter Juried Members Show
DESCRIPTION:
URL:https://clintonartsocietyct.org/event/winter-juried-members-show-56/
LOCATION:Connecticut
END:VEVENT
BEGIN:VEVENT
DTSTART;TZID=America/New_York:20240223T090000
DTEND;TZID=America/New_York:20240223T120000
DTSTAMP:20260420T013817
CREATED:20231021T165058Z
LAST-MODIFIED:20240212T195019Z
UID:6323-1708678800-1708689600@clintonartsocietyct.org
SUMMARY:Winter Juried Members Show
DESCRIPTION:
URL:https://clintonartsocietyct.org/event/winter-juried-members-show-55/
LOCATION:Connecticut
END:VEVENT
BEGIN:VEVENT
DTSTART;TZID=America/New_York:20240222T090000
DTEND;TZID=America/New_York:20240222T160000
DTSTAMP:20260420T013817
CREATED:20231021T165058Z
LAST-MODIFIED:20240212T195019Z
UID:6322-1708592400-1708617600@clintonartsocietyct.org
SUMMARY:Winter Juried Members Show
DESCRIPTION:
URL:https://clintonartsocietyct.org/event/winter-juried-members-show-54/
LOCATION:Connecticut
END:VEVENT
BEGIN:VEVENT
DTSTART;TZID=America/New_York:20240221T090000
DTEND;TZID=America/New_York:20240221T160000
DTSTAMP:20260420T013817
CREATED:20231021T165058Z
LAST-MODIFIED:20240212T195019Z
UID:6321-1708506000-1708531200@clintonartsocietyct.org
SUMMARY:Winter Juried Members Show
DESCRIPTION:
URL:https://clintonartsocietyct.org/event/winter-juried-members-show-53/
LOCATION:Connecticut
END:VEVENT
BEGIN:VEVENT
DTSTART;TZID=America/New_York:20240220T090000
DTEND;TZID=America/New_York:20240220T160000
DTSTAMP:20260420T013817
CREATED:20231021T165057Z
LAST-MODIFIED:20240212T195019Z
UID:6320-1708419600-1708444800@clintonartsocietyct.org
SUMMARY:Winter Juried Members Show
DESCRIPTION:
URL:https://clintonartsocietyct.org/event/winter-juried-members-show-52/
LOCATION:Connecticut
END:VEVENT
BEGIN:VEVENT
DTSTART;TZID=America/New_York:20240219T090000
DTEND;TZID=America/New_York:20240219T160000
DTSTAMP:20260420T013817
CREATED:20231021T165057Z
LAST-MODIFIED:20240212T195019Z
UID:6319-1708333200-1708358400@clintonartsocietyct.org
SUMMARY:Winter Juried Members Show
DESCRIPTION:
URL:https://clintonartsocietyct.org/event/winter-juried-members-show-51/
LOCATION:Connecticut
END:VEVENT
BEGIN:VEVENT
DTSTART;TZID=America/New_York:20240216T090000
DTEND;TZID=America/New_York:20240216T120000
DTSTAMP:20260420T013817
CREATED:20231021T165057Z
LAST-MODIFIED:20240212T195019Z
UID:6318-1708074000-1708084800@clintonartsocietyct.org
SUMMARY:Winter Juried Members Show
DESCRIPTION:
URL:https://clintonartsocietyct.org/event/winter-juried-members-show-50/
LOCATION:Connecticut
END:VEVENT
BEGIN:VEVENT
DTSTART;TZID=America/New_York:20240215T090000
DTEND;TZID=America/New_York:20240215T160000
DTSTAMP:20260420T013817
CREATED:20231021T165057Z
LAST-MODIFIED:20240212T195019Z
UID:6317-1707987600-1708012800@clintonartsocietyct.org
SUMMARY:Winter Juried Members Show
DESCRIPTION:
URL:https://clintonartsocietyct.org/event/winter-juried-members-show-49/
LOCATION:Connecticut
END:VEVENT
BEGIN:VEVENT
DTSTART;TZID=America/New_York:20240214T090000
DTEND;TZID=America/New_York:20240214T160000
DTSTAMP:20260420T013817
CREATED:20231021T165057Z
LAST-MODIFIED:20240212T195019Z
UID:6316-1707901200-1707926400@clintonartsocietyct.org
SUMMARY:Winter Juried Members Show
DESCRIPTION:
URL:https://clintonartsocietyct.org/event/winter-juried-members-show-48/
LOCATION:Connecticut
END:VEVENT
BEGIN:VEVENT
DTSTART;TZID=America/New_York:20240213T090000
DTEND;TZID=America/New_York:20240213T160000
DTSTAMP:20260420T013817
CREATED:20231021T165057Z
LAST-MODIFIED:20240212T195019Z
UID:6315-1707814800-1707840000@clintonartsocietyct.org
SUMMARY:Winter Juried Members Show
DESCRIPTION:
URL:https://clintonartsocietyct.org/event/winter-juried-members-show-47/
LOCATION:Connecticut
END:VEVENT
BEGIN:VEVENT
DTSTART;TZID=America/New_York:20240212T090000
DTEND;TZID=America/New_York:20240212T160000
DTSTAMP:20260420T013817
CREATED:20231021T165056Z
LAST-MODIFIED:20240212T195018Z
UID:6314-1707728400-1707753600@clintonartsocietyct.org
SUMMARY:Winter Juried Members Show
DESCRIPTION:
URL:https://clintonartsocietyct.org/event/winter-juried-members-show-46/
LOCATION:Connecticut
END:VEVENT
BEGIN:VEVENT
DTSTART;TZID=America/New_York:20240210T100000
DTEND;TZID=America/New_York:20240210T120000
DTSTAMP:20260420T013817
CREATED:20221231T203808Z
LAST-MODIFIED:20240205T195000Z
UID:4728-1707559200-1707566400@clintonartsocietyct.org
SUMMARY:Paint it!
DESCRIPTION:
URL:https://clintonartsocietyct.org/event/paint-it-17/
LOCATION:Connecticut
END:VEVENT
BEGIN:VEVENT
DTSTART;TZID=America/New_York:20240209T090000
DTEND;TZID=America/New_York:20240209T120000
DTSTAMP:20260420T013817
CREATED:20231021T165056Z
LAST-MODIFIED:20240205T195000Z
UID:6313-1707469200-1707480000@clintonartsocietyct.org
SUMMARY:Winter Juried Members Show
DESCRIPTION:
URL:https://clintonartsocietyct.org/event/winter-juried-members-show-45/
LOCATION:Connecticut
END:VEVENT
BEGIN:VEVENT
DTSTART;TZID=America/New_York:20240208T090000
DTEND;TZID=America/New_York:20240208T160000
DTSTAMP:20260420T013817
CREATED:20231021T165056Z
LAST-MODIFIED:20240205T195000Z
UID:6312-1707382800-1707408000@clintonartsocietyct.org
SUMMARY:Winter Juried Members Show
DESCRIPTION:
URL:https://clintonartsocietyct.org/event/winter-juried-members-show-44/
LOCATION:Connecticut
END:VEVENT
BEGIN:VEVENT
DTSTART;TZID=America/New_York:20240207T090000
DTEND;TZID=America/New_York:20240207T160000
DTSTAMP:20260420T013817
CREATED:20231021T165056Z
LAST-MODIFIED:20240205T195000Z
UID:6311-1707296400-1707321600@clintonartsocietyct.org
SUMMARY:Winter Juried Members Show
DESCRIPTION:
URL:https://clintonartsocietyct.org/event/winter-juried-members-show-43/
LOCATION:Connecticut
END:VEVENT
BEGIN:VEVENT
DTSTART;TZID=America/New_York:20240206T090000
DTEND;TZID=America/New_York:20240206T160000
DTSTAMP:20260420T013817
CREATED:20231021T165056Z
LAST-MODIFIED:20240205T195000Z
UID:6310-1707210000-1707235200@clintonartsocietyct.org
SUMMARY:Winter Juried Members Show
DESCRIPTION:
URL:https://clintonartsocietyct.org/event/winter-juried-members-show-42/
LOCATION:Connecticut
END:VEVENT
BEGIN:VEVENT
DTSTART;TZID=America/New_York:20240205T090000
DTEND;TZID=America/New_York:20240205T160000
DTSTAMP:20260420T013817
CREATED:20231021T165056Z
LAST-MODIFIED:20240205T195000Z
UID:6309-1707123600-1707148800@clintonartsocietyct.org
SUMMARY:Winter Juried Members Show
DESCRIPTION:
URL:https://clintonartsocietyct.org/event/winter-juried-members-show-41/
LOCATION:Connecticut
END:VEVENT
BEGIN:VEVENT
DTSTART;TZID=America/New_York:20240202T090000
DTEND;TZID=America/New_York:20240202T120000
DTSTAMP:20260420T013817
CREATED:20231021T165055Z
LAST-MODIFIED:20240127T172003Z
UID:6308-1706864400-1706875200@clintonartsocietyct.org
SUMMARY:Winter Juried Members Show
DESCRIPTION:
URL:https://clintonartsocietyct.org/event/winter-juried-members-show-40/
LOCATION:Connecticut
END:VEVENT
BEGIN:VEVENT
DTSTART;TZID=America/New_York:20240201T090000
DTEND;TZID=America/New_York:20240201T160000
DTSTAMP:20260420T013817
CREATED:20231021T165055Z
LAST-MODIFIED:20240127T172003Z
UID:6307-1706778000-1706803200@clintonartsocietyct.org
SUMMARY:Winter Juried Members Show
DESCRIPTION:
URL:https://clintonartsocietyct.org/event/winter-juried-members-show-39/
LOCATION:Connecticut
END:VEVENT
END:VCALENDAR