BEGIN:VCALENDAR
VERSION:2.0
PRODID:-//Clinton Art Society - ECPv6.15.20//NONSGML v1.0//EN
CALSCALE:GREGORIAN
METHOD:PUBLISH
X-WR-CALNAME:Clinton Art Society
X-ORIGINAL-URL:https://clintonartsocietyct.org
X-WR-CALDESC:Events for Clinton Art Society
REFRESH-INTERVAL;VALUE=DURATION:PT1H
X-Robots-Tag:noindex
X-PUBLISHED-TTL:PT1H
BEGIN:VTIMEZONE
TZID:America/New_York
BEGIN:DAYLIGHT
TZOFFSETFROM:-0500
TZOFFSETTO:-0400
TZNAME:EDT
DTSTART:20230312T070000
END:DAYLIGHT
BEGIN:STANDARD
TZOFFSETFROM:-0400
TZOFFSETTO:-0500
TZNAME:EST
DTSTART:20231105T060000
END:STANDARD
BEGIN:DAYLIGHT
TZOFFSETFROM:-0500
TZOFFSETTO:-0400
TZNAME:EDT
DTSTART:20240310T070000
END:DAYLIGHT
BEGIN:STANDARD
TZOFFSETFROM:-0400
TZOFFSETTO:-0500
TZNAME:EST
DTSTART:20241103T060000
END:STANDARD
BEGIN:DAYLIGHT
TZOFFSETFROM:-0500
TZOFFSETTO:-0400
TZNAME:EDT
DTSTART:20250309T070000
END:DAYLIGHT
BEGIN:STANDARD
TZOFFSETFROM:-0400
TZOFFSETTO:-0500
TZNAME:EST
DTSTART:20251102T060000
END:STANDARD
END:VTIMEZONE
BEGIN:VEVENT
DTSTART;TZID=America/New_York:20240301T090000
DTEND;TZID=America/New_York:20240301T120000
DTSTAMP:20260423T153537
CREATED:20231021T165059Z
LAST-MODIFIED:20240127T172006Z
UID:6328-1709283600-1709294400@clintonartsocietyct.org
SUMMARY:Winter Juried Members Show
DESCRIPTION:
URL:https://clintonartsocietyct.org/event/winter-juried-members-show-60/
END:VEVENT
BEGIN:VEVENT
DTSTART;TZID=America/New_York:20240302T130000
DTEND;TZID=America/New_York:20240302T150000
DTSTAMP:20260423T153537
CREATED:20240205T194949Z
LAST-MODIFIED:20240212T195020Z
UID:6679-1709384400-1709391600@clintonartsocietyct.org
SUMMARY:Art critique with Eileen Eder
DESCRIPTION:
URL:https://clintonartsocietyct.org/event/art-critique-with-eileen-eder/
LOCATION:Henry Carter Hull Library\, 10 Killingworth Turnpike\, Clinton\, CT 06413\, USA
END:VEVENT
BEGIN:VEVENT
DTSTART;TZID=America/New_York:20240304T090000
DTEND;TZID=America/New_York:20240304T160000
DTSTAMP:20260423T153537
CREATED:20231021T165059Z
LAST-MODIFIED:20240212T195020Z
UID:6329-1709542800-1709568000@clintonartsocietyct.org
SUMMARY:Winter Juried Members Show
DESCRIPTION:
URL:https://clintonartsocietyct.org/event/winter-juried-members-show-61/
END:VEVENT
BEGIN:VEVENT
DTSTART;TZID=America/New_York:20240305T090000
DTEND;TZID=America/New_York:20240305T160000
DTSTAMP:20260423T153537
CREATED:20231021T165059Z
LAST-MODIFIED:20240212T195020Z
UID:6330-1709629200-1709654400@clintonartsocietyct.org
SUMMARY:Winter Juried Members Show
DESCRIPTION:
URL:https://clintonartsocietyct.org/event/winter-juried-members-show-62/
END:VEVENT
BEGIN:VEVENT
DTSTART;TZID=America/New_York:20240306T090000
DTEND;TZID=America/New_York:20240306T160000
DTSTAMP:20260423T153537
CREATED:20231021T165059Z
LAST-MODIFIED:20240212T195020Z
UID:6331-1709715600-1709740800@clintonartsocietyct.org
SUMMARY:Winter Juried Members Show
DESCRIPTION:
URL:https://clintonartsocietyct.org/event/winter-juried-members-show-63/
END:VEVENT
BEGIN:VEVENT
DTSTART;TZID=America/New_York:20240307T090000
DTEND;TZID=America/New_York:20240307T160000
DTSTAMP:20260423T153537
CREATED:20231021T165059Z
LAST-MODIFIED:20240212T195020Z
UID:6332-1709802000-1709827200@clintonartsocietyct.org
SUMMARY:Winter Juried Members Show
DESCRIPTION:
URL:https://clintonartsocietyct.org/event/winter-juried-members-show-64/
END:VEVENT
BEGIN:VEVENT
DTSTART;TZID=America/New_York:20240308T090000
DTEND;TZID=America/New_York:20240308T120000
DTSTAMP:20260423T153537
CREATED:20231021T165100Z
LAST-MODIFIED:20240212T195020Z
UID:6333-1709888400-1709899200@clintonartsocietyct.org
SUMMARY:Winter Juried Members Show
DESCRIPTION:
URL:https://clintonartsocietyct.org/event/winter-juried-members-show-65/
END:VEVENT
BEGIN:VEVENT
DTSTART;TZID=America/New_York:20240311T090000
DTEND;TZID=America/New_York:20240311T160000
DTSTAMP:20260423T153537
CREATED:20231021T165100Z
LAST-MODIFIED:20240212T195020Z
UID:6334-1710147600-1710172800@clintonartsocietyct.org
SUMMARY:Winter Juried Members Show
DESCRIPTION:
URL:https://clintonartsocietyct.org/event/winter-juried-members-show-66/
END:VEVENT
BEGIN:VEVENT
DTSTART;TZID=America/New_York:20240312T090000
DTEND;TZID=America/New_York:20240312T160000
DTSTAMP:20260423T153537
CREATED:20231021T165100Z
LAST-MODIFIED:20240212T195020Z
UID:6335-1710234000-1710259200@clintonartsocietyct.org
SUMMARY:Winter Juried Members Show
DESCRIPTION:
URL:https://clintonartsocietyct.org/event/winter-juried-members-show-67/
END:VEVENT
BEGIN:VEVENT
DTSTART;TZID=America/New_York:20240313T090000
DTEND;TZID=America/New_York:20240313T160000
DTSTAMP:20260423T153537
CREATED:20231021T165100Z
LAST-MODIFIED:20240212T195021Z
UID:6336-1710320400-1710345600@clintonartsocietyct.org
SUMMARY:Winter Juried Members Show
DESCRIPTION:
URL:https://clintonartsocietyct.org/event/winter-juried-members-show-68/
END:VEVENT
BEGIN:VEVENT
DTSTART;TZID=America/New_York:20240314T090000
DTEND;TZID=America/New_York:20240314T160000
DTSTAMP:20260423T153537
CREATED:20231021T165100Z
LAST-MODIFIED:20240212T195021Z
UID:6337-1710406800-1710432000@clintonartsocietyct.org
SUMMARY:Winter Juried Members Show
DESCRIPTION:
URL:https://clintonartsocietyct.org/event/winter-juried-members-show-69/
END:VEVENT
BEGIN:VEVENT
DTSTART;TZID=America/New_York:20240315T090000
DTEND;TZID=America/New_York:20240315T120000
DTSTAMP:20260423T153537
CREATED:20231021T165100Z
LAST-MODIFIED:20240212T195021Z
UID:6338-1710493200-1710504000@clintonartsocietyct.org
SUMMARY:Winter Juried Members Show
DESCRIPTION:
URL:https://clintonartsocietyct.org/event/winter-juried-members-show-70/
END:VEVENT
BEGIN:VEVENT
DTSTART;TZID=America/New_York:20240316T100000
DTEND;TZID=America/New_York:20240316T120000
DTSTAMP:20260423T153537
CREATED:20221231T203808Z
LAST-MODIFIED:20240212T195021Z
UID:4729-1710583200-1710590400@clintonartsocietyct.org
SUMMARY:Paint it!
DESCRIPTION:
URL:https://clintonartsocietyct.org/event/paint-it-18/
END:VEVENT
BEGIN:VEVENT
DTSTART;TZID=America/New_York:20240318T090000
DTEND;TZID=America/New_York:20240318T160000
DTSTAMP:20260423T153537
CREATED:20231021T165101Z
LAST-MODIFIED:20240212T195021Z
UID:6339-1710752400-1710777600@clintonartsocietyct.org
SUMMARY:Winter Juried Members Show
DESCRIPTION:
URL:https://clintonartsocietyct.org/event/winter-juried-members-show-71/
END:VEVENT
BEGIN:VEVENT
DTSTART;TZID=America/New_York:20240319T090000
DTEND;TZID=America/New_York:20240319T160000
DTSTAMP:20260423T153537
CREATED:20231021T165101Z
LAST-MODIFIED:20240212T195021Z
UID:6340-1710838800-1710864000@clintonartsocietyct.org
SUMMARY:Winter Juried Members Show
DESCRIPTION:
URL:https://clintonartsocietyct.org/event/winter-juried-members-show-72/
END:VEVENT
BEGIN:VEVENT
DTSTART;TZID=America/New_York:20240320T090000
DTEND;TZID=America/New_York:20240320T160000
DTSTAMP:20260423T153537
CREATED:20231021T165101Z
LAST-MODIFIED:20240212T195021Z
UID:6341-1710925200-1710950400@clintonartsocietyct.org
SUMMARY:Winter Juried Members Show
DESCRIPTION:
URL:https://clintonartsocietyct.org/event/winter-juried-members-show-73/
END:VEVENT
BEGIN:VEVENT
DTSTART;TZID=America/New_York:20240321T090000
DTEND;TZID=America/New_York:20240321T160000
DTSTAMP:20260423T153537
CREATED:20231021T165101Z
LAST-MODIFIED:20240212T195021Z
UID:6342-1711011600-1711036800@clintonartsocietyct.org
SUMMARY:Winter Juried Members Show
DESCRIPTION:
URL:https://clintonartsocietyct.org/event/winter-juried-members-show-74/
END:VEVENT
BEGIN:VEVENT
DTSTART;TZID=America/New_York:20240322T090000
DTEND;TZID=America/New_York:20240322T120000
DTSTAMP:20260423T153537
CREATED:20231021T165101Z
LAST-MODIFIED:20240212T195021Z
UID:6343-1711098000-1711108800@clintonartsocietyct.org
SUMMARY:Winter Juried Members Show
DESCRIPTION:
URL:https://clintonartsocietyct.org/event/winter-juried-members-show-75/
END:VEVENT
BEGIN:VEVENT
DTSTART;TZID=America/New_York:20240325T090000
DTEND;TZID=America/New_York:20240325T160000
DTSTAMP:20260423T153537
CREATED:20231021T165103Z
LAST-MODIFIED:20240212T195021Z
UID:6344-1711357200-1711382400@clintonartsocietyct.org
SUMMARY:Winter Juried Members Show
DESCRIPTION:
URL:https://clintonartsocietyct.org/event/winter-juried-members-show-76/
END:VEVENT
BEGIN:VEVENT
DTSTART;TZID=America/New_York:20240326T090000
DTEND;TZID=America/New_York:20240326T160000
DTSTAMP:20260423T153537
CREATED:20231021T165103Z
LAST-MODIFIED:20240212T195021Z
UID:6345-1711443600-1711468800@clintonartsocietyct.org
SUMMARY:Winter Juried Members Show
DESCRIPTION:
URL:https://clintonartsocietyct.org/event/winter-juried-members-show-77/
END:VEVENT
BEGIN:VEVENT
DTSTART;TZID=America/New_York:20240327T090000
DTEND;TZID=America/New_York:20240327T160000
DTSTAMP:20260423T153537
CREATED:20231021T165103Z
LAST-MODIFIED:20240212T195021Z
UID:6346-1711530000-1711555200@clintonartsocietyct.org
SUMMARY:Winter Juried Members Show
DESCRIPTION:
URL:https://clintonartsocietyct.org/event/winter-juried-members-show-78/
END:VEVENT
BEGIN:VEVENT
DTSTART;TZID=America/New_York:20240328T090000
DTEND;TZID=America/New_York:20240328T160000
DTSTAMP:20260423T153537
CREATED:20231021T165103Z
LAST-MODIFIED:20240212T195021Z
UID:6347-1711616400-1711641600@clintonartsocietyct.org
SUMMARY:Winter Juried Members Show
DESCRIPTION:
URL:https://clintonartsocietyct.org/event/winter-juried-members-show-79/
END:VEVENT
BEGIN:VEVENT
DTSTART;TZID=America/New_York:20240329T090000
DTEND;TZID=America/New_York:20240329T120000
DTSTAMP:20260423T153537
CREATED:20231021T165103Z
LAST-MODIFIED:20240212T195022Z
UID:6348-1711702800-1711713600@clintonartsocietyct.org
SUMMARY:Winter Juried Members Show
DESCRIPTION:
URL:https://clintonartsocietyct.org/event/winter-juried-members-show-80/
END:VEVENT
END:VCALENDAR